BEGIN:VCALENDAR
VERSION:2.0
PRODID:-//Maggie L Walker Governor's School Foundation - ECPv6.15.7//NONSGML v1.0//EN
CALSCALE:GREGORIAN
METHOD:PUBLISH
X-WR-CALNAME:Maggie L Walker Governor's School Foundation
X-ORIGINAL-URL:https://www.mlwgsfoundation.org
X-WR-CALDESC:Events for Maggie L Walker Governor's School Foundation
REFRESH-INTERVAL;VALUE=DURATION:PT1H
X-Robots-Tag:noindex
X-PUBLISHED-TTL:PT1H
BEGIN:VTIMEZONE
TZID:UTC
BEGIN:STANDARD
TZOFFSETFROM:+0000
TZOFFSETTO:+0000
TZNAME:UTC
DTSTART:20210101T000000
END:STANDARD
END:VTIMEZONE
BEGIN:VEVENT
DTSTART;TZID=UTC:20220429T140000
DTEND;TZID=UTC:20220429T154500
DTSTAMP:20260421T050119
CREATED:20220222T183957Z
LAST-MODIFIED:20250428T133944Z
UID:3744-1651240800-1651247100@www.mlwgsfoundation.org
SUMMARY:Grandparents' and Special Friends' Day
DESCRIPTION:Friday\, April 29\n2:00-3:45pm\nMLWGS\n\n\nThe Governor’s School Foundation will sponsor Maggie Walker’s  bi-annual Grandparents’ and Special Friends’ Day on the afternoon of April 29. Grandparents or other special adults of all current students will be invited to tour the building\, hear a bit from Dr. Lowerre about our wonderful school\, and share refreshments with their grandchild(ren) at the end of the day. \nWe need your help with our guest list. Please fill out the form here for your child’s proud grandparent(s) or other significant relatives so we can send them an invitation. You may either have us mail the invitation or we can give it to your student(s) to deliver. \nInvitations will be ready the week before Spring Break. The RSVP deadline is April 22. Guests must RSVP for students to be able to attend the reception at the end of the day. \nStay tuned for more details in the coming weeks. Questions? Contact Foundation Executive Director Ginger O’Neil.
URL:https://www.mlwgsfoundation.org/event/grandparents-and-special-friends-day/
LOCATION:Maggie L Walker Governor’s School\, 1000 N Lombardy St\, Richmond\, VA\, 23220\, United States
CATEGORIES:Grandparents and Special Friends Day
ATTACH;FMTTYPE=image/jpeg:https://www.mlwgsfoundation.org/wp-content/uploads/2022/02/grandparents-day-reupload.jpg
END:VEVENT
BEGIN:VEVENT
DTSTART;TZID=UTC:20220423T183000
DTEND;TZID=UTC:20220423T220000
DTSTAMP:20260421T050119
CREATED:20220222T183900Z
LAST-MODIFIED:20250428T133954Z
UID:3742-1650738600-1650751200@www.mlwgsfoundation.org
SUMMARY:20th Annual Night of the Dragon Auction and Gala
DESCRIPTION:Saturday\, April 23\, 2022\n6:30pm-10pm\nAltria Theater Ballroom\n\nThis annual event is the largest fundraiser of the year and collectively benefits MLWGS Foundation\, Boosters and PTSA. Join us for a fun evening of bidding and mingling that has become the social event of the year for the Dragon family! We have many business and corporate sponsorship opportunities available and are always looking for new and unique auction items. The auction committee is always welcoming new members especially freshmen and sophomore parents!\n\nFor more information\, contact Foundation Executive Director Ginger O’Neil at goneil@mlwgsfoundation.org or at 703-801-2506 (cell).
URL:https://www.mlwgsfoundation.org/event/20th-annual-night-of-the-dragon-auction-and-gala/
LOCATION:Altria Theater Ballroom\, 6 N Laurel S\, Richmond\, VA\, 23220\, United States
CATEGORIES:Fundraiser,Night of the Dragon
ATTACH;FMTTYPE=image/jpeg:https://www.mlwgsfoundation.org/wp-content/uploads/2022/02/notd-jazz.jpg
END:VEVENT
BEGIN:VEVENT
DTSTART;TZID=UTC:20220401T080000
DTEND;TZID=UTC:20220401T160000
DTSTAMP:20260421T050119
CREATED:20220222T182636Z
LAST-MODIFIED:20250428T134003Z
UID:3737-1648800000-1648828800@www.mlwgsfoundation.org
SUMMARY:2022 Alumni Showcase
DESCRIPTION:Friday\, April 1\n8:00am-4:00pm\nMLWGS\nThe Alumni Showcase takes place every two years\, and the next one is coming up on Friday\, April 1\, 2022. If you are interested in helping as a speaker or organizer of this event\, please contact the Foundation Executive Director\, Ginger O’Neil.
URL:https://www.mlwgsfoundation.org/event/2022-alumni-showcase/
LOCATION:Maggie L Walker Governor’s School\, 1000 N Lombardy St\, Richmond\, VA\, 23220\, United States
CATEGORIES:Alumni
ATTACH;FMTTYPE=image/jpeg:https://www.mlwgsfoundation.org/wp-content/uploads/2022/02/Events-auditorium.jpg
END:VEVENT
BEGIN:VEVENT
DTSTART;TZID=UTC:20220323T170000
DTEND;TZID=UTC:20220323T180000
DTSTAMP:20260421T050119
CREATED:20220222T182424Z
LAST-MODIFIED:20220222T182424Z
UID:3735-1648054800-1648058400@www.mlwgsfoundation.org
SUMMARY:Governor's School Foundation Board Meeting
DESCRIPTION:Wednesday\, March 23\n5pm-6pm\nPlace/Zoom TBD
URL:https://www.mlwgsfoundation.org/event/governors-school-foundation-board-meeting/
END:VEVENT
END:VCALENDAR