BEGIN:VCALENDAR
VERSION:2.0
PRODID:-//Maggie L Walker Governor's School Foundation - ECPv6.15.7//NONSGML v1.0//EN
CALSCALE:GREGORIAN
METHOD:PUBLISH
X-ORIGINAL-URL:https://www.mlwgsfoundation.org
X-WR-CALDESC:Events for Maggie L Walker Governor's School Foundation
REFRESH-INTERVAL;VALUE=DURATION:PT1H
X-Robots-Tag:noindex
X-PUBLISHED-TTL:PT1H
BEGIN:VTIMEZONE
TZID:UTC
BEGIN:STANDARD
TZOFFSETFROM:+0000
TZOFFSETTO:+0000
TZNAME:UTC
DTSTART:20230101T000000
END:STANDARD
END:VTIMEZONE
BEGIN:VEVENT
DTSTART;VALUE=DATE:20240425
DTEND;VALUE=DATE:20250426
DTSTAMP:20260420T225643
CREATED:20240425T132543Z
LAST-MODIFIED:20250428T132801Z
UID:4944-1714003200-1745625599@www.mlwgsfoundation.org
SUMMARY:2024 Grandparents and Special Friends Day
DESCRIPTION:Each year\, the Foundation invites students to share MLWGS with their Grandparents or other significant persons during this beloved event. On April 25\, 2024\, Grandparents and Special Friends will be invited to visit campus to hear about our wonderful school and enjoy a reception and school tour with their Dragon(s). The Foundation will begin gathering contact information from Dragon families for invitees to this special event in February 2025. Look for a google doc link in Smoke & Scales and the Director’s Sunday Update.
URL:https://www.mlwgsfoundation.org/event/2024-grandparents-and-special-friends-day/
CATEGORIES:Grandparents and Special Friends Day
ATTACH;FMTTYPE=image/jpeg:https://www.mlwgsfoundation.org/wp-content/uploads/2022/02/grandparents-day-reupload.jpg
END:VEVENT
BEGIN:VEVENT
DTSTART;VALUE=DATE:20240927
DTEND;VALUE=DATE:20240930
DTSTAMP:20260420T225643
CREATED:20240927T125232Z
LAST-MODIFIED:20250428T133936Z
UID:4937-1727395200-1727654399@www.mlwgsfoundation.org
SUMMARY:2024 Reunions Weekend
DESCRIPTION:Each year\, the Foundation helps coordinate events for our classes celebrating 5-\, 10-\, 15-\, 20-\, 25- and now 30-year Reunions. A highlight for Alumni celebrating their 10-year Reunions is receiving their 10-Year Letters to Self\, which the Foundation coordinates during their senior years and returns at the 10th Reunion. \nThe 2024 Reunions Weekend took place September 27-29\, 2024. Alumni from all classes gathered at Bottom’s Up Pizza on Friday evening (7-10pm). \nAlumni of the Classes of 1999\, 2004\, 2009\, 2014\, and 2019 celebrated their special reunions at the Reunions Classes Celebrations on Saturday evening from 7-10pm at ZZQ in Scott’s Addition. The evening included a special venue created just for us as well as drinks\, sweets\, and a great time for alumni to reconnect with classmates. \nCheck back for information about Reunions Weekend 2025!
URL:https://www.mlwgsfoundation.org/event/2024-reunions-weekend/
LOCATION:Multiple Venues\, VA\, United States
CATEGORIES:Alumni
ATTACH;FMTTYPE=image/jpeg:https://www.mlwgsfoundation.org/wp-content/uploads/2020/12/Alumni-Photo-1_sm.jpg
ORGANIZER;CN="MLWGS Foundation":MAILTO:goneil@mlwgsfoundation.org
END:VEVENT
END:VCALENDAR